BEGIN:VCALENDAR
VERSION:2.0
PRODID:-//Sociedad Criadores de Holando del Uruguay - ECPv6.15.20//NONSGML v1.0//EN
CALSCALE:GREGORIAN
METHOD:PUBLISH
X-WR-CALNAME:Sociedad Criadores de Holando del Uruguay
X-ORIGINAL-URL:https://www.holando.com.uy
X-WR-CALDESC:Eventos para Sociedad Criadores de Holando del Uruguay
REFRESH-INTERVAL;VALUE=DURATION:PT1H
X-Robots-Tag:noindex
X-PUBLISHED-TTL:PT1H
BEGIN:VTIMEZONE
TZID:America/Montevideo
BEGIN:STANDARD
TZOFFSETFROM:-0300
TZOFFSETTO:-0300
TZNAME:-03
DTSTART:20250101T000000
END:STANDARD
END:VTIMEZONE
BEGIN:VEVENT
DTSTART;VALUE=DATE:20260416
DTEND;VALUE=DATE:20260420
DTSTAMP:20260421T140139
CREATED:20251202T132040Z
LAST-MODIFIED:20260410T172013Z
UID:21190-1776297600-1776643199@www.holando.com.uy
SUMMARY:15ª edición Rural de Melilla 2026 Exposición Agropecuaria
DESCRIPTION:
URL:https://www.holando.com.uy/evento/15a-edicion-rural-de-melilla-2026-exposicion-agropecuaria/
LOCATION:Melilla\, Montevideo Ruta 5 – Km 11500 – Camino La Granja
ATTACH;FMTTYPE=image/jpeg:https://www.holando.com.uy/wp-content/uploads/programa.jpeg
END:VEVENT
END:VCALENDAR