BEGIN:VCALENDAR
VERSION:2.0
PRODID:-//Sociedad Criadores de Holando del Uruguay - ECPv6.15.20//NONSGML v1.0//EN
CALSCALE:GREGORIAN
METHOD:PUBLISH
X-WR-CALNAME:Sociedad Criadores de Holando del Uruguay
X-ORIGINAL-URL:https://www.holando.com.uy
X-WR-CALDESC:Eventos para Sociedad Criadores de Holando del Uruguay
REFRESH-INTERVAL;VALUE=DURATION:PT1H
X-Robots-Tag:noindex
X-PUBLISHED-TTL:PT1H
BEGIN:VTIMEZONE
TZID:America/Montevideo
BEGIN:STANDARD
TZOFFSETFROM:-0300
TZOFFSETTO:-0300
TZNAME:-03
DTSTART:20250101T000000
END:STANDARD
END:VTIMEZONE
BEGIN:VEVENT
DTSTART;TZID=America/Montevideo:20260424T140000
DTEND;TZID=America/Montevideo:20260424T170000
DTSTAMP:20260424T022557
CREATED:20251126T111043Z
LAST-MODIFIED:20260327T131621Z
UID:21037-1777039200-1777050000@www.holando.com.uy
SUMMARY:9º Remate Anual de Nilo Pérez e Hijos
DESCRIPTION:
URL:https://www.holando.com.uy/evento/9o-remate-anual-de-nilo-perez-e-hijos/
LOCATION:Establecimiento «San Marcos»\, San José\, Uruguay
ATTACH;FMTTYPE=image/jpeg:https://www.holando.com.uy/wp-content/uploads/remate-de-nilo-perez.jpeg
END:VEVENT
BEGIN:VEVENT
DTSTART;TZID=America/Montevideo:20260424T190000
DTEND;TZID=America/Montevideo:20260424T190000
DTSTAMP:20260424T022557
CREATED:20260128T163546Z
LAST-MODIFIED:20260410T143220Z
UID:21226-1777057200-1777057200@www.holando.com.uy
SUMMARY:Remate Anual cabaña "San Alberto"
DESCRIPTION:
URL:https://www.holando.com.uy/evento/remate-anual-cabana-san-alberto-4/
LOCATION:directv
ATTACH;FMTTYPE=image/jpeg:https://www.holando.com.uy/wp-content/uploads/remate-sanalberto.jpeg
END:VEVENT
END:VCALENDAR